BEGIN:VCALENDAR
VERSION:2.0
PRODID:-//Greater Houston Pickleball - ECPv6.15.20//NONSGML v1.0//EN
CALSCALE:GREGORIAN
METHOD:PUBLISH
X-ORIGINAL-URL:https://greaterhoustonpickleball.com
X-WR-CALDESC:Events for Greater Houston Pickleball
REFRESH-INTERVAL;VALUE=DURATION:PT1H
X-Robots-Tag:noindex
X-PUBLISHED-TTL:PT1H
BEGIN:VTIMEZONE
TZID:America/Chicago
BEGIN:DAYLIGHT
TZOFFSETFROM:-0600
TZOFFSETTO:-0500
TZNAME:CDT
DTSTART:20230312T080000
END:DAYLIGHT
BEGIN:STANDARD
TZOFFSETFROM:-0500
TZOFFSETTO:-0600
TZNAME:CST
DTSTART:20231105T070000
END:STANDARD
BEGIN:DAYLIGHT
TZOFFSETFROM:-0600
TZOFFSETTO:-0500
TZNAME:CDT
DTSTART:20240310T080000
END:DAYLIGHT
BEGIN:STANDARD
TZOFFSETFROM:-0500
TZOFFSETTO:-0600
TZNAME:CST
DTSTART:20241103T070000
END:STANDARD
BEGIN:DAYLIGHT
TZOFFSETFROM:-0600
TZOFFSETTO:-0500
TZNAME:CDT
DTSTART:20250309T080000
END:DAYLIGHT
BEGIN:STANDARD
TZOFFSETFROM:-0500
TZOFFSETTO:-0600
TZNAME:CST
DTSTART:20251102T070000
END:STANDARD
END:VTIMEZONE
BEGIN:VEVENT
DTSTART;VALUE=DATE:20241101
DTEND;VALUE=DATE:20241102
DTSTAMP:20260419T123828
CREATED:20240924T162657Z
LAST-MODIFIED:20240924T162657Z
UID:27828-1730419200-1730505599@greaterhoustonpickleball.com
SUMMARY:Friday Doubles League (Co Ed and Women's Only)
DESCRIPTION:
URL:https://greaterhoustonpickleball.com/event/friday-doubles-league-co-ed-and-womens-only-4/
END:VEVENT
BEGIN:VEVENT
DTSTART;VALUE=DATE:20241102
DTEND;VALUE=DATE:20241103
DTSTAMP:20260419T123828
CREATED:20240924T163540Z
LAST-MODIFIED:20240924T163540Z
UID:27842-1730505600-1730591999@greaterhoustonpickleball.com
SUMMARY:Saturday Men's Only League
DESCRIPTION:
URL:https://greaterhoustonpickleball.com/event/saturday-mens-only-league-5/
END:VEVENT
BEGIN:VEVENT
DTSTART;VALUE=DATE:20241102
DTEND;VALUE=DATE:20241104
DTSTAMP:20260419T123828
CREATED:20240924T164203Z
LAST-MODIFIED:20240924T164203Z
UID:27856-1730505600-1730678399@greaterhoustonpickleball.com
SUMMARY:Weekend Mixed League
DESCRIPTION:
URL:https://greaterhoustonpickleball.com/event/weekend-mixed-league-5/
END:VEVENT
BEGIN:VEVENT
DTSTART;VALUE=DATE:20241108
DTEND;VALUE=DATE:20241109
DTSTAMP:20260419T123828
CREATED:20240924T162746Z
LAST-MODIFIED:20240924T162746Z
UID:27830-1731024000-1731110399@greaterhoustonpickleball.com
SUMMARY:Friday Doubles League (Co Ed and Women's Only)
DESCRIPTION:
URL:https://greaterhoustonpickleball.com/event/friday-doubles-league-co-ed-and-womens-only-5/
END:VEVENT
BEGIN:VEVENT
DTSTART;VALUE=DATE:20241109
DTEND;VALUE=DATE:20241110
DTSTAMP:20260419T123828
CREATED:20240924T163614Z
LAST-MODIFIED:20240924T163614Z
UID:27844-1731110400-1731196799@greaterhoustonpickleball.com
SUMMARY:Saturday Men's Only League
DESCRIPTION:
URL:https://greaterhoustonpickleball.com/event/saturday-mens-only-league-6/
END:VEVENT
BEGIN:VEVENT
DTSTART;VALUE=DATE:20241109
DTEND;VALUE=DATE:20241111
DTSTAMP:20260419T123828
CREATED:20240924T164245Z
LAST-MODIFIED:20240924T164245Z
UID:27858-1731110400-1731283199@greaterhoustonpickleball.com
SUMMARY:Weekend Mixed League
DESCRIPTION:
URL:https://greaterhoustonpickleball.com/event/weekend-mixed-league-6/
END:VEVENT
BEGIN:VEVENT
DTSTART;TZID=America/Chicago:20241112T180000
DTEND;TZID=America/Chicago:20241112T200000
DTSTAMP:20260419T123828
CREATED:20240617T204458Z
LAST-MODIFIED:20250130T235239Z
UID:27333-1731434400-1731441600@greaterhoustonpickleball.com
SUMMARY:Adaptive Pickleball
DESCRIPTION:Free practice 6 -8 PM second Tuesday of the month.  Equipment provided.  Hosted by Chicken N Pickle Nassau Bay.  \nFor more info contact Taylor Nichols /tnichols@chickennpickle.com
URL:https://greaterhoustonpickleball.com/event/adaptive-pickleball-5/
LOCATION:Chicken N Pickle\, 210 Blue Heron Drive\, Webster\, TX\, 77598\, United States
CATEGORIES:Community,Education,Lessons
END:VEVENT
BEGIN:VEVENT
DTSTART;VALUE=DATE:20241115
DTEND;VALUE=DATE:20241116
DTSTAMP:20260419T123828
CREATED:20240924T162908Z
LAST-MODIFIED:20240924T162908Z
UID:27832-1731628800-1731715199@greaterhoustonpickleball.com
SUMMARY:Friday Doubles League (Co Ed and Women's Only)
DESCRIPTION:Last match of the season to determine winner of the division.
URL:https://greaterhoustonpickleball.com/event/friday-doubles-league-co-ed-and-womens-only-6/
END:VEVENT
BEGIN:VEVENT
DTSTART;VALUE=DATE:20241116
DTEND;VALUE=DATE:20241117
DTSTAMP:20260419T123828
CREATED:20240924T163711Z
LAST-MODIFIED:20240924T163711Z
UID:27846-1731715200-1731801599@greaterhoustonpickleball.com
SUMMARY:Saturday Men's Only League
DESCRIPTION:Last match of the season to determine winner.
URL:https://greaterhoustonpickleball.com/event/saturday-mens-only-league-7/
END:VEVENT
BEGIN:VEVENT
DTSTART;VALUE=DATE:20241116
DTEND;VALUE=DATE:20241118
DTSTAMP:20260419T123828
CREATED:20240924T164330Z
LAST-MODIFIED:20240924T164330Z
UID:27860-1731715200-1731887999@greaterhoustonpickleball.com
SUMMARY:Weekend Mixed League
DESCRIPTION:
URL:https://greaterhoustonpickleball.com/event/weekend-mixed-league-7/
END:VEVENT
END:VCALENDAR