BEGIN:VCALENDAR
VERSION:2.0
PRODID:-//Greater Houston Pickleball - ECPv6.15.20//NONSGML v1.0//EN
CALSCALE:GREGORIAN
METHOD:PUBLISH
X-WR-CALNAME:Greater Houston Pickleball
X-ORIGINAL-URL:https://greaterhoustonpickleball.com
X-WR-CALDESC:Events for Greater Houston Pickleball
REFRESH-INTERVAL;VALUE=DURATION:PT1H
X-Robots-Tag:noindex
X-PUBLISHED-TTL:PT1H
BEGIN:VTIMEZONE
TZID:America/Chicago
BEGIN:DAYLIGHT
TZOFFSETFROM:-0600
TZOFFSETTO:-0500
TZNAME:CDT
DTSTART:20230312T080000
END:DAYLIGHT
BEGIN:STANDARD
TZOFFSETFROM:-0500
TZOFFSETTO:-0600
TZNAME:CST
DTSTART:20231105T070000
END:STANDARD
BEGIN:DAYLIGHT
TZOFFSETFROM:-0600
TZOFFSETTO:-0500
TZNAME:CDT
DTSTART:20240310T080000
END:DAYLIGHT
BEGIN:STANDARD
TZOFFSETFROM:-0500
TZOFFSETTO:-0600
TZNAME:CST
DTSTART:20241103T070000
END:STANDARD
BEGIN:DAYLIGHT
TZOFFSETFROM:-0600
TZOFFSETTO:-0500
TZNAME:CDT
DTSTART:20250309T080000
END:DAYLIGHT
BEGIN:STANDARD
TZOFFSETFROM:-0500
TZOFFSETTO:-0600
TZNAME:CST
DTSTART:20251102T070000
END:STANDARD
END:VTIMEZONE
BEGIN:VEVENT
DTSTART;TZID=America/Chicago:20240710T120000
DTEND;TZID=America/Chicago:20240712T180000
DTSTAMP:20260419T192938
CREATED:20240513T161936Z
LAST-MODIFIED:20240605T161239Z
UID:27221-1720612800-1720807200@greaterhoustonpickleball.com
SUMMARY:Alzheimer's Benefit Pickleball Tournament
DESCRIPTION:REGISTRATION OPENS JULY 1 \n\nA round-robin indoor doubles tournament for players ages 18-65+ with age divisions.\nMD\, WD & MXD. Each event is played in 1 day.\n$50 Entry includes drinks\, snacks & medals.  Add $5- for a second event sign-up.\n\nCONTACT:    goldmg022344@gmail.com \n  \nREGISTRATION FORM 2024 2nd Draft (002)
URL:https://greaterhoustonpickleball.com/event/alzheimers-benefit-pickleball-tournament/
LOCATION:Pala Pickleball\, 20100 Holzwarth Rd\, Spring\, TX\, 77388\, United States
CATEGORIES:Tournament
ORGANIZER;CN="Mike Goldberg":MAILTO:goldmg022344@gmail.com
END:VEVENT
END:VCALENDAR