BEGIN:VCALENDAR
VERSION:2.0
PRODID:-//Greater Houston Pickleball - ECPv6.15.20//NONSGML v1.0//EN
CALSCALE:GREGORIAN
METHOD:PUBLISH
X-ORIGINAL-URL:https://greaterhoustonpickleball.com
X-WR-CALDESC:Events for Greater Houston Pickleball
REFRESH-INTERVAL;VALUE=DURATION:PT1H
X-Robots-Tag:noindex
X-PUBLISHED-TTL:PT1H
BEGIN:VTIMEZONE
TZID:America/Chicago
BEGIN:DAYLIGHT
TZOFFSETFROM:-0600
TZOFFSETTO:-0500
TZNAME:CDT
DTSTART:20250309T080000
END:DAYLIGHT
BEGIN:STANDARD
TZOFFSETFROM:-0500
TZOFFSETTO:-0600
TZNAME:CST
DTSTART:20251102T070000
END:STANDARD
BEGIN:DAYLIGHT
TZOFFSETFROM:-0600
TZOFFSETTO:-0500
TZNAME:CDT
DTSTART:20260308T080000
END:DAYLIGHT
BEGIN:STANDARD
TZOFFSETFROM:-0500
TZOFFSETTO:-0600
TZNAME:CST
DTSTART:20261101T070000
END:STANDARD
BEGIN:DAYLIGHT
TZOFFSETFROM:-0600
TZOFFSETTO:-0500
TZNAME:CDT
DTSTART:20270314T080000
END:DAYLIGHT
BEGIN:STANDARD
TZOFFSETFROM:-0500
TZOFFSETTO:-0600
TZNAME:CST
DTSTART:20271107T070000
END:STANDARD
END:VTIMEZONE
BEGIN:VEVENT
DTSTART;VALUE=DATE:20260509
DTEND;VALUE=DATE:20260510
DTSTAMP:20260420T085704
CREATED:20260312T184713Z
LAST-MODIFIED:20260323T214405Z
UID:29936-1778284800-1778371199@greaterhoustonpickleball.com
SUMMARY:The Parks & Paddles Battle Tournament
DESCRIPTION:Free practice 6 -8 PM second Tuesday of the month.  Equipment provided.  Hosted by Chicken N Pickle Nassau Bay.  For more info contact Taylor Nichols /tnichols@chickennpickle.com
URL:https://greaterhoustonpickleball.com/event/the-parks-and-paddles-battle-tournament/
LOCATION:Charlton Park\, 8200 Park Place Blvd\, Houston\, 77017\, United States
CATEGORIES:Community,Tournament
ATTACH;FMTTYPE=image/jpeg:https://greaterhoustonpickleball.com/wp-content/uploads/2026/03/GHP-May-Tournament-Save-the-Date.jpg
END:VEVENT
END:VCALENDAR