BEGIN:VCALENDAR
VERSION:2.0
PRODID:-//Greater Houston Pickleball - ECPv6.15.20//NONSGML v1.0//EN
CALSCALE:GREGORIAN
METHOD:PUBLISH
X-ORIGINAL-URL:https://greaterhoustonpickleball.com
X-WR-CALDESC:Events for Greater Houston Pickleball
REFRESH-INTERVAL;VALUE=DURATION:PT1H
X-Robots-Tag:noindex
X-PUBLISHED-TTL:PT1H
BEGIN:VTIMEZONE
TZID:America/Chicago
BEGIN:DAYLIGHT
TZOFFSETFROM:-0600
TZOFFSETTO:-0500
TZNAME:CDT
DTSTART:20240310T080000
END:DAYLIGHT
BEGIN:STANDARD
TZOFFSETFROM:-0500
TZOFFSETTO:-0600
TZNAME:CST
DTSTART:20241103T070000
END:STANDARD
BEGIN:DAYLIGHT
TZOFFSETFROM:-0600
TZOFFSETTO:-0500
TZNAME:CDT
DTSTART:20250309T080000
END:DAYLIGHT
BEGIN:STANDARD
TZOFFSETFROM:-0500
TZOFFSETTO:-0600
TZNAME:CST
DTSTART:20251102T070000
END:STANDARD
BEGIN:DAYLIGHT
TZOFFSETFROM:-0600
TZOFFSETTO:-0500
TZNAME:CDT
DTSTART:20260308T080000
END:DAYLIGHT
BEGIN:STANDARD
TZOFFSETFROM:-0500
TZOFFSETTO:-0600
TZNAME:CST
DTSTART:20261101T070000
END:STANDARD
END:VTIMEZONE
BEGIN:VEVENT
DTSTART;TZID=America/Chicago:20250211T090000
DTEND;TZID=America/Chicago:20250211T120000
DTSTAMP:20260420T005327
CREATED:20250128T031320Z
LAST-MODIFIED:20250128T032003Z
UID:27958-1739264400-1739275200@greaterhoustonpickleball.com
SUMMARY:Valentines Day Pickleball Social
DESCRIPTION:Pickleball Night\n\n\n \nMake sure to be a part of the first ever Pickleball night with the Houston Astros! \nJoin your fellow Pickleball fanatics in supporting the Houston Astros as they take on the Toronto Blue Jays on April 21st\, then showcase your Houston Astros pride on the Pickleball court with your own Pickleball paddle for VOLAIR! Each ticket purchased through this link guarantees you will receive a Pickleball paddle at the game!
URL:https://greaterhoustonpickleball.com/event/valentines-day-pickleball-social/
LOCATION:Upside SportsPlex\, 1156 Fox Meadow Drive\, Alvin\, TX\, 77511\, United States
END:VEVENT
BEGIN:VEVENT
DTSTART;TZID=America/Chicago:20250211T180000
DTEND;TZID=America/Chicago:20250211T200000
DTSTAMP:20260420T005327
CREATED:20250130T235856Z
LAST-MODIFIED:20250204T055246Z
UID:27986-1739296800-1739304000@greaterhoustonpickleball.com
SUMMARY:Adaptive Pickleball
DESCRIPTION:Pickleball Night\n\n\n \nMake sure to be a part of the first ever Pickleball night with the Houston Astros! \nJoin your fellow Pickleball fanatics in supporting the Houston Astros as they take on the Toronto Blue Jays on April 21st\, then showcase your Houston Astros pride on the Pickleball court with your own Pickleball paddle for VOLAIR! Each ticket purchased through this link guarantees you will receive a Pickleball paddle at the game!
URL:https://greaterhoustonpickleball.com/event/adaptive-pickleball/
LOCATION:Chicken N Pickle\, 210 Blue Heron Drive\, Webster\, TX\, 77598\, United States
CATEGORIES:Community,Education,Lessons
END:VEVENT
BEGIN:VEVENT
DTSTART;TZID=America/Chicago:20250222T000000
DTEND;TZID=America/Chicago:20250222T000000
DTSTAMP:20260420T005327
CREATED:20250123T043450Z
LAST-MODIFIED:20250130T232959Z
UID:27947-1740182400-1740182400@greaterhoustonpickleball.com
SUMMARY:Free Beginner Pickleball Clinic at Pickleball Country Club
DESCRIPTION:Pickleball Night\n\n\n \nMake sure to be a part of the first ever Pickleball night with the Houston Astros! \nJoin your fellow Pickleball fanatics in supporting the Houston Astros as they take on the Toronto Blue Jays on April 21st\, then showcase your Houston Astros pride on the Pickleball court with your own Pickleball paddle for VOLAIR! Each ticket purchased through this link guarantees you will receive a Pickleball paddle at the game!
URL:https://greaterhoustonpickleball.com/event/https-www-steme-org-event-details-open-beginner-pickleball-player-clinic/
LOCATION:Pickleball Country Club\, 10506 Kinghurst Drive\, Houston\, TX\, 77099\, United States
CATEGORIES:Community,Lessons,Socials,Sports club
END:VEVENT
BEGIN:VEVENT
DTSTART;TZID=America/Chicago:20250307T090000
DTEND;TZID=America/Chicago:20250307T120000
DTSTAMP:20260420T005327
CREATED:20250205T052521Z
LAST-MODIFIED:20250205T052521Z
UID:28035-1741338000-1741348800@greaterhoustonpickleball.com
SUMMARY:Spring League 2025 Friday Morning League!
DESCRIPTION:Pickleball Night\n\n\n \nMake sure to be a part of the first ever Pickleball night with the Houston Astros! \nJoin your fellow Pickleball fanatics in supporting the Houston Astros as they take on the Toronto Blue Jays on April 21st\, then showcase your Houston Astros pride on the Pickleball court with your own Pickleball paddle for VOLAIR! Each ticket purchased through this link guarantees you will receive a Pickleball paddle at the game!
URL:https://greaterhoustonpickleball.com/event/spring-league-2025-friday-morning-league/
LOCATION:TX
CATEGORIES:League
END:VEVENT
BEGIN:VEVENT
DTSTART;TZID=America/Chicago:20250308T090000
DTEND;TZID=America/Chicago:20250308T120000
DTSTAMP:20260420T005327
CREATED:20250205T054853Z
LAST-MODIFIED:20250205T054853Z
UID:28055-1741424400-1741435200@greaterhoustonpickleball.com
SUMMARY:Spring 2025 Men's Saturday League!
DESCRIPTION:Pickleball Night\n\n\n \nMake sure to be a part of the first ever Pickleball night with the Houston Astros! \nJoin your fellow Pickleball fanatics in supporting the Houston Astros as they take on the Toronto Blue Jays on April 21st\, then showcase your Houston Astros pride on the Pickleball court with your own Pickleball paddle for VOLAIR! Each ticket purchased through this link guarantees you will receive a Pickleball paddle at the game!
URL:https://greaterhoustonpickleball.com/event/spring-2025-mens-saturday-league/
LOCATION:TX
CATEGORIES:League
END:VEVENT
BEGIN:VEVENT
DTSTART;TZID=America/Chicago:20250311T180000
DTEND;TZID=America/Chicago:20250311T200000
DTSTAMP:20260420T005327
CREATED:20250204T055641Z
LAST-MODIFIED:20250204T055641Z
UID:28006-1741716000-1741723200@greaterhoustonpickleball.com
SUMMARY:Adaptive Pickleball
DESCRIPTION:Pickleball Night\n\n\n \nMake sure to be a part of the first ever Pickleball night with the Houston Astros! \nJoin your fellow Pickleball fanatics in supporting the Houston Astros as they take on the Toronto Blue Jays on April 21st\, then showcase your Houston Astros pride on the Pickleball court with your own Pickleball paddle for VOLAIR! Each ticket purchased through this link guarantees you will receive a Pickleball paddle at the game!
URL:https://greaterhoustonpickleball.com/event/adaptive-pickleball-2/
LOCATION:Chicken N Pickle\, 210 Blue Heron Drive\, Webster\, TX\, 77598\, United States
CATEGORIES:Community,Education,Lessons
END:VEVENT
BEGIN:VEVENT
DTSTART;TZID=America/Chicago:20250314T090000
DTEND;TZID=America/Chicago:20250314T120000
DTSTAMP:20260420T005327
CREATED:20250205T052916Z
LAST-MODIFIED:20250205T052916Z
UID:28037-1741942800-1741953600@greaterhoustonpickleball.com
SUMMARY:Spring League 2025 Friday Morning League!
DESCRIPTION:Pickleball Night\n\n\n \nMake sure to be a part of the first ever Pickleball night with the Houston Astros! \nJoin your fellow Pickleball fanatics in supporting the Houston Astros as they take on the Toronto Blue Jays on April 21st\, then showcase your Houston Astros pride on the Pickleball court with your own Pickleball paddle for VOLAIR! Each ticket purchased through this link guarantees you will receive a Pickleball paddle at the game!
URL:https://greaterhoustonpickleball.com/event/spring-league-2025-friday-morning-league-2/
LOCATION:TX
CATEGORIES:League
END:VEVENT
BEGIN:VEVENT
DTSTART;TZID=America/Chicago:20250315T090000
DTEND;TZID=America/Chicago:20250315T120000
DTSTAMP:20260420T005327
CREATED:20250205T055032Z
LAST-MODIFIED:20250205T055032Z
UID:28057-1742029200-1742040000@greaterhoustonpickleball.com
SUMMARY:Spring 2025 Men's Saturday League
DESCRIPTION:Pickleball Night\n\n\n \nMake sure to be a part of the first ever Pickleball night with the Houston Astros! \nJoin your fellow Pickleball fanatics in supporting the Houston Astros as they take on the Toronto Blue Jays on April 21st\, then showcase your Houston Astros pride on the Pickleball court with your own Pickleball paddle for VOLAIR! Each ticket purchased through this link guarantees you will receive a Pickleball paddle at the game!
URL:https://greaterhoustonpickleball.com/event/spring-2025-mens-saturday-league-2/
LOCATION:TX
CATEGORIES:League
END:VEVENT
BEGIN:VEVENT
DTSTART;TZID=America/Chicago:20250321T090000
DTEND;TZID=America/Chicago:20250321T120000
DTSTAMP:20260420T005327
CREATED:20250205T053106Z
LAST-MODIFIED:20250205T053106Z
UID:28039-1742547600-1742558400@greaterhoustonpickleball.com
SUMMARY:Spring 2025 Friday Morning League!
DESCRIPTION:Pickleball Night\n\n\n \nMake sure to be a part of the first ever Pickleball night with the Houston Astros! \nJoin your fellow Pickleball fanatics in supporting the Houston Astros as they take on the Toronto Blue Jays on April 21st\, then showcase your Houston Astros pride on the Pickleball court with your own Pickleball paddle for VOLAIR! Each ticket purchased through this link guarantees you will receive a Pickleball paddle at the game!
URL:https://greaterhoustonpickleball.com/event/spring-2025-friday-morning-league/
LOCATION:TX
CATEGORIES:League
END:VEVENT
BEGIN:VEVENT
DTSTART;TZID=America/Chicago:20250322T090000
DTEND;TZID=America/Chicago:20250322T120000
DTSTAMP:20260420T005327
CREATED:20250205T055238Z
LAST-MODIFIED:20250205T055238Z
UID:28059-1742634000-1742644800@greaterhoustonpickleball.com
SUMMARY:Spring 2025 Men's Saturday League
DESCRIPTION:Pickleball Night\n\n\n \nMake sure to be a part of the first ever Pickleball night with the Houston Astros! \nJoin your fellow Pickleball fanatics in supporting the Houston Astros as they take on the Toronto Blue Jays on April 21st\, then showcase your Houston Astros pride on the Pickleball court with your own Pickleball paddle for VOLAIR! Each ticket purchased through this link guarantees you will receive a Pickleball paddle at the game!
URL:https://greaterhoustonpickleball.com/event/spring-2025-mens-saturday-league-3/
LOCATION:TX
CATEGORIES:League
END:VEVENT
BEGIN:VEVENT
DTSTART;TZID=America/Chicago:20250328T090000
DTEND;TZID=America/Chicago:20250328T120000
DTSTAMP:20260420T005327
CREATED:20250205T053338Z
LAST-MODIFIED:20250205T053338Z
UID:28041-1743152400-1743163200@greaterhoustonpickleball.com
SUMMARY:Spring 2025 Friday Morning League!
DESCRIPTION:Pickleball Night\n\n\n \nMake sure to be a part of the first ever Pickleball night with the Houston Astros! \nJoin your fellow Pickleball fanatics in supporting the Houston Astros as they take on the Toronto Blue Jays on April 21st\, then showcase your Houston Astros pride on the Pickleball court with your own Pickleball paddle for VOLAIR! Each ticket purchased through this link guarantees you will receive a Pickleball paddle at the game!
URL:https://greaterhoustonpickleball.com/event/spring-2025-friday-morning-league-2/
LOCATION:TX
CATEGORIES:League
END:VEVENT
BEGIN:VEVENT
DTSTART;TZID=America/Chicago:20250329T090000
DTEND;TZID=America/Chicago:20250329T120000
DTSTAMP:20260420T005327
CREATED:20250205T055430Z
LAST-MODIFIED:20250205T055430Z
UID:28061-1743238800-1743249600@greaterhoustonpickleball.com
SUMMARY:Spring 2025 Men's Saturday Morning League
DESCRIPTION:Pickleball Night\n\n\n \nMake sure to be a part of the first ever Pickleball night with the Houston Astros! \nJoin your fellow Pickleball fanatics in supporting the Houston Astros as they take on the Toronto Blue Jays on April 21st\, then showcase your Houston Astros pride on the Pickleball court with your own Pickleball paddle for VOLAIR! Each ticket purchased through this link guarantees you will receive a Pickleball paddle at the game!
URL:https://greaterhoustonpickleball.com/event/spring-2025-mens-saturday-morning-league/
LOCATION:TX
CATEGORIES:League
END:VEVENT
BEGIN:VEVENT
DTSTART;TZID=America/Chicago:20250404T090000
DTEND;TZID=America/Chicago:20250404T120000
DTSTAMP:20260420T005327
CREATED:20250205T053514Z
LAST-MODIFIED:20250205T053514Z
UID:28043-1743757200-1743768000@greaterhoustonpickleball.com
SUMMARY:Spring 2025 Friday Morning League!
DESCRIPTION:Pickleball Night\n\n\n \nMake sure to be a part of the first ever Pickleball night with the Houston Astros! \nJoin your fellow Pickleball fanatics in supporting the Houston Astros as they take on the Toronto Blue Jays on April 21st\, then showcase your Houston Astros pride on the Pickleball court with your own Pickleball paddle for VOLAIR! Each ticket purchased through this link guarantees you will receive a Pickleball paddle at the game!
URL:https://greaterhoustonpickleball.com/event/spring-2025-friday-morning-league-3/
LOCATION:TX
CATEGORIES:League
END:VEVENT
BEGIN:VEVENT
DTSTART;TZID=America/Chicago:20250405T090000
DTEND;TZID=America/Chicago:20250405T120000
DTSTAMP:20260420T005327
CREATED:20250205T055631Z
LAST-MODIFIED:20250205T055631Z
UID:28063-1743843600-1743854400@greaterhoustonpickleball.com
SUMMARY:Spring 2025 Men's Saturday Morning League
DESCRIPTION:Pickleball Night\n\n\n \nMake sure to be a part of the first ever Pickleball night with the Houston Astros! \nJoin your fellow Pickleball fanatics in supporting the Houston Astros as they take on the Toronto Blue Jays on April 21st\, then showcase your Houston Astros pride on the Pickleball court with your own Pickleball paddle for VOLAIR! Each ticket purchased through this link guarantees you will receive a Pickleball paddle at the game!
URL:https://greaterhoustonpickleball.com/event/spring-2025-mens-saturday-morning-league-2/
LOCATION:TX
CATEGORIES:League
END:VEVENT
BEGIN:VEVENT
DTSTART;TZID=America/Chicago:20250408T180000
DTEND;TZID=America/Chicago:20250408T200000
DTSTAMP:20260420T005327
CREATED:20250205T040535Z
LAST-MODIFIED:20250205T040709Z
UID:28008-1744135200-1744142400@greaterhoustonpickleball.com
SUMMARY:Adaptive Pickleball
DESCRIPTION:Pickleball Night\n\n\n \nMake sure to be a part of the first ever Pickleball night with the Houston Astros! \nJoin your fellow Pickleball fanatics in supporting the Houston Astros as they take on the Toronto Blue Jays on April 21st\, then showcase your Houston Astros pride on the Pickleball court with your own Pickleball paddle for VOLAIR! Each ticket purchased through this link guarantees you will receive a Pickleball paddle at the game!
URL:https://greaterhoustonpickleball.com/event/adaptive-pickleball-7/
LOCATION:Chicken N Pickle\, 210 Blue Heron Drive\, Webster\, TX\, 77598\, United States
CATEGORIES:Community,Education,Lessons
ORGANIZER;CN="Terry Nichols":MAILTO:tnichols@chickennpickle.com
END:VEVENT
BEGIN:VEVENT
DTSTART;TZID=America/Chicago:20250411T080000
DTEND;TZID=America/Chicago:20250411T150000
DTSTAMP:20260420T005327
CREATED:20250320T214930Z
LAST-MODIFIED:20250320T214954Z
UID:28302-1744358400-1744383600@greaterhoustonpickleball.com
SUMMARY:Sink-a-Dink Pickleball Tournament
DESCRIPTION:Pickleball Night\n\n\n \nMake sure to be a part of the first ever Pickleball night with the Houston Astros! \nJoin your fellow Pickleball fanatics in supporting the Houston Astros as they take on the Toronto Blue Jays on April 21st\, then showcase your Houston Astros pride on the Pickleball court with your own Pickleball paddle for VOLAIR! Each ticket purchased through this link guarantees you will receive a Pickleball paddle at the game!
URL:https://greaterhoustonpickleball.com/event/sink-a-dink-pickleball-tournament/
LOCATION:Pickleball Country Club\, 10506 Kinghurst Drive\, Houston\, TX\, 77099\, United States
CATEGORIES:Charity,Tournament
END:VEVENT
BEGIN:VEVENT
DTSTART;TZID=America/Chicago:20250411T090000
DTEND;TZID=America/Chicago:20250411T120000
DTSTAMP:20260420T005327
CREATED:20250205T053646Z
LAST-MODIFIED:20250205T053646Z
UID:28045-1744362000-1744372800@greaterhoustonpickleball.com
SUMMARY:Spring 2025 Friday Morning League!
DESCRIPTION:Pickleball Night\n\n\n \nMake sure to be a part of the first ever Pickleball night with the Houston Astros! \nJoin your fellow Pickleball fanatics in supporting the Houston Astros as they take on the Toronto Blue Jays on April 21st\, then showcase your Houston Astros pride on the Pickleball court with your own Pickleball paddle for VOLAIR! Each ticket purchased through this link guarantees you will receive a Pickleball paddle at the game!
URL:https://greaterhoustonpickleball.com/event/spring-2025-friday-morning-league-4/
LOCATION:TX
CATEGORIES:League
END:VEVENT
BEGIN:VEVENT
DTSTART;TZID=America/Chicago:20250411T100000
DTEND;TZID=America/Chicago:20250411T140000
DTSTAMP:20260420T005327
CREATED:20250315T034931Z
LAST-MODIFIED:20250315T041257Z
UID:28281-1744365600-1744380000@greaterhoustonpickleball.com
SUMMARY:3.0 TO 4.0 PLAYER DOUBLES “SHOOTOUT”
DESCRIPTION:Pickleball Night\n\n\n \nMake sure to be a part of the first ever Pickleball night with the Houston Astros! \nJoin your fellow Pickleball fanatics in supporting the Houston Astros as they take on the Toronto Blue Jays on April 21st\, then showcase your Houston Astros pride on the Pickleball court with your own Pickleball paddle for VOLAIR! Each ticket purchased through this link guarantees you will receive a Pickleball paddle at the game!
URL:https://greaterhoustonpickleball.com/event/3-0-to-4-0-player-doubles-shootout/
LOCATION:Houston Pickleball Center\, 12233 Robin Blvd\, Houston\, tx\, 77045
CATEGORIES:Tournament
ORGANIZER;CN="Mike Goldberg":MAILTO:goldmg022344@gmail.com
END:VEVENT
BEGIN:VEVENT
DTSTART;TZID=America/Chicago:20250412T090000
DTEND;TZID=America/Chicago:20250412T120000
DTSTAMP:20260420T005327
CREATED:20250205T055813Z
LAST-MODIFIED:20250205T055813Z
UID:28065-1744448400-1744459200@greaterhoustonpickleball.com
SUMMARY:Spring 2025 Men's Saturday Morning League
DESCRIPTION:Pickleball Night\n\n\n \nMake sure to be a part of the first ever Pickleball night with the Houston Astros! \nJoin your fellow Pickleball fanatics in supporting the Houston Astros as they take on the Toronto Blue Jays on April 21st\, then showcase your Houston Astros pride on the Pickleball court with your own Pickleball paddle for VOLAIR! Each ticket purchased through this link guarantees you will receive a Pickleball paddle at the game!
URL:https://greaterhoustonpickleball.com/event/spring-2025-mens-saturday-morning-league-3/
LOCATION:TX
CATEGORIES:League
END:VEVENT
BEGIN:VEVENT
DTSTART;TZID=America/Chicago:20250418T090000
DTEND;TZID=America/Chicago:20250418T120000
DTSTAMP:20260420T005327
CREATED:20250205T053855Z
LAST-MODIFIED:20250205T053855Z
UID:28047-1744966800-1744977600@greaterhoustonpickleball.com
SUMMARY:Spring 2025 Friday Morning League!
DESCRIPTION:Pickleball Night\n\n\n \nMake sure to be a part of the first ever Pickleball night with the Houston Astros! \nJoin your fellow Pickleball fanatics in supporting the Houston Astros as they take on the Toronto Blue Jays on April 21st\, then showcase your Houston Astros pride on the Pickleball court with your own Pickleball paddle for VOLAIR! Each ticket purchased through this link guarantees you will receive a Pickleball paddle at the game!
URL:https://greaterhoustonpickleball.com/event/spring-2025-friday-morning-league-5/
LOCATION:TX
CATEGORIES:League
END:VEVENT
BEGIN:VEVENT
DTSTART;TZID=America/Chicago:20250419T080000
DTEND;TZID=America/Chicago:20250419T170000
DTSTAMP:20260420T005327
CREATED:20250205T055922Z
LAST-MODIFIED:20250205T055922Z
UID:28067-1745049600-1745082000@greaterhoustonpickleball.com
SUMMARY:Spring 2025 Men's Saturday Morning League
DESCRIPTION:Pickleball Night\n\n\n \nMake sure to be a part of the first ever Pickleball night with the Houston Astros! \nJoin your fellow Pickleball fanatics in supporting the Houston Astros as they take on the Toronto Blue Jays on April 21st\, then showcase your Houston Astros pride on the Pickleball court with your own Pickleball paddle for VOLAIR! Each ticket purchased through this link guarantees you will receive a Pickleball paddle at the game!
URL:https://greaterhoustonpickleball.com/event/spring-2025-mens-saturday-morning-league-4/
LOCATION:TX
CATEGORIES:League
END:VEVENT
BEGIN:VEVENT
DTSTART;TZID=America/Chicago:20250421T191000
DTEND;TZID=America/Chicago:20250421T220000
DTSTAMP:20260420T005327
CREATED:20250315T031740Z
LAST-MODIFIED:20250315T033625Z
UID:28267-1745262600-1745272800@greaterhoustonpickleball.com
SUMMARY:Pickleball Night at the Astros
DESCRIPTION:Pickleball Night\n\n\n \nMake sure to be a part of the first ever Pickleball night with the Houston Astros! \nJoin your fellow Pickleball fanatics in supporting the Houston Astros as they take on the Toronto Blue Jays on April 21st\, then showcase your Houston Astros pride on the Pickleball court with your own Pickleball paddle for VOLAIR! Each ticket purchased through this link guarantees you will receive a Pickleball paddle at the game!
URL:https://greaterhoustonpickleball.com/event/pickleball-night-at-the-astros/
LOCATION:Daikin Park Astros\, 501 Crawford St\, Houston\, TX\, 77002
CATEGORIES:Socials
END:VEVENT
BEGIN:VEVENT
DTSTART;TZID=America/Chicago:20250425T090000
DTEND;TZID=America/Chicago:20250425T120000
DTSTAMP:20260420T005327
CREATED:20250205T054015Z
LAST-MODIFIED:20250205T054015Z
UID:28049-1745571600-1745582400@greaterhoustonpickleball.com
SUMMARY:Spring 2025 Friday Morning League!
DESCRIPTION:Pickleball Night\n\n\n \nMake sure to be a part of the first ever Pickleball night with the Houston Astros! \nJoin your fellow Pickleball fanatics in supporting the Houston Astros as they take on the Toronto Blue Jays on April 21st\, then showcase your Houston Astros pride on the Pickleball court with your own Pickleball paddle for VOLAIR! Each ticket purchased through this link guarantees you will receive a Pickleball paddle at the game!
URL:https://greaterhoustonpickleball.com/event/spring-2025-friday-morning-league-6/
LOCATION:TX
CATEGORIES:League
END:VEVENT
BEGIN:VEVENT
DTSTART;TZID=America/Chicago:20250426T090000
DTEND;TZID=America/Chicago:20250426T120000
DTSTAMP:20260420T005327
CREATED:20250205T060107Z
LAST-MODIFIED:20250205T060107Z
UID:28069-1745658000-1745668800@greaterhoustonpickleball.com
SUMMARY:Spring 2025 Men's Saturday Morning League
DESCRIPTION:Pickleball Night\n\n\n \nMake sure to be a part of the first ever Pickleball night with the Houston Astros! \nJoin your fellow Pickleball fanatics in supporting the Houston Astros as they take on the Toronto Blue Jays on April 21st\, then showcase your Houston Astros pride on the Pickleball court with your own Pickleball paddle for VOLAIR! Each ticket purchased through this link guarantees you will receive a Pickleball paddle at the game!
URL:https://greaterhoustonpickleball.com/event/spring-2025-mens-saturday-morning-league-5/
LOCATION:TX
CATEGORIES:League
END:VEVENT
BEGIN:VEVENT
DTSTART;TZID=America/Chicago:20250426T110000
DTEND;TZID=America/Chicago:20250426T150000
DTSTAMP:20260420T005327
CREATED:20250424T191951Z
LAST-MODIFIED:20250426T014310Z
UID:28626-1745665200-1745679600@greaterhoustonpickleball.com
SUMMARY:Pickleball Showcase at Dick's House of Sport
DESCRIPTION:Pickleball Night\n\n\n \nMake sure to be a part of the first ever Pickleball night with the Houston Astros! \nJoin your fellow Pickleball fanatics in supporting the Houston Astros as they take on the Toronto Blue Jays on April 21st\, then showcase your Houston Astros pride on the Pickleball court with your own Pickleball paddle for VOLAIR! Each ticket purchased through this link guarantees you will receive a Pickleball paddle at the game!
URL:https://greaterhoustonpickleball.com/event/pickleball-showcase-at-dicks-house-of-sport/
LOCATION:Dick’s House of Sport Baybrook\, 18650 Gulf Fwy\, Friendswood\, TX\, 77546\, United States
ATTACH;FMTTYPE=image/png:https://greaterhoustonpickleball.com/wp-content/uploads/2025/04/pbshowcase-atDicks-4-26-25-GHP_nb.png
END:VEVENT
BEGIN:VEVENT
DTSTART;TZID=America/Chicago:20250428T180000
DTEND;TZID=America/Chicago:20250428T210000
DTSTAMP:20260420T005327
CREATED:20250210T023448Z
LAST-MODIFIED:20250210T024638Z
UID:28094-1745863200-1745874000@greaterhoustonpickleball.com
SUMMARY:Interfaith Caring Ministries
DESCRIPTION:Pickleball Night\n\n\n \nMake sure to be a part of the first ever Pickleball night with the Houston Astros! \nJoin your fellow Pickleball fanatics in supporting the Houston Astros as they take on the Toronto Blue Jays on April 21st\, then showcase your Houston Astros pride on the Pickleball court with your own Pickleball paddle for VOLAIR! Each ticket purchased through this link guarantees you will receive a Pickleball paddle at the game!
URL:https://greaterhoustonpickleball.com/event/interfaith-caring-ministries/
LOCATION:Chicken N Pickle\, 210 Blue Heron Drive\, Webster\, TX\, 77598\, United States
CATEGORIES:Community,Tournament
END:VEVENT
BEGIN:VEVENT
DTSTART;TZID=America/Chicago:20250430T150000
DTEND;TZID=America/Chicago:20250430T170000
DTSTAMP:20260420T005327
CREATED:20250424T183005Z
LAST-MODIFIED:20250426T233403Z
UID:28623-1746025200-1746032400@greaterhoustonpickleball.com
SUMMARY:National Pickleball Month - Let's Celebrate
DESCRIPTION:Pickleball Night\n\n\n \nMake sure to be a part of the first ever Pickleball night with the Houston Astros! \nJoin your fellow Pickleball fanatics in supporting the Houston Astros as they take on the Toronto Blue Jays on April 21st\, then showcase your Houston Astros pride on the Pickleball court with your own Pickleball paddle for VOLAIR! Each ticket purchased through this link guarantees you will receive a Pickleball paddle at the game!
URL:https://greaterhoustonpickleball.com/event/national-pickleball-month-lets-celebrate/
LOCATION:Houston Pickleball Center\, 12233 Robin Blvd\, Houston\, tx\, 77045
CATEGORIES:Community
ATTACH;FMTTYPE=image/png:https://greaterhoustonpickleball.com/wp-content/uploads/2025/04/National-Pickleball-4-30-25-GHP-nb.png
END:VEVENT
BEGIN:VEVENT
DTSTART;TZID=America/Chicago:20250502T090000
DTEND;TZID=America/Chicago:20250502T120000
DTSTAMP:20260420T005327
CREATED:20250205T054141Z
LAST-MODIFIED:20250205T054141Z
UID:28051-1746176400-1746187200@greaterhoustonpickleball.com
SUMMARY:Spring 2025 Friday Morning League!
DESCRIPTION:Pickleball Night\n\n\n \nMake sure to be a part of the first ever Pickleball night with the Houston Astros! \nJoin your fellow Pickleball fanatics in supporting the Houston Astros as they take on the Toronto Blue Jays on April 21st\, then showcase your Houston Astros pride on the Pickleball court with your own Pickleball paddle for VOLAIR! Each ticket purchased through this link guarantees you will receive a Pickleball paddle at the game!
URL:https://greaterhoustonpickleball.com/event/spring-2025-friday-morning-league-7/
LOCATION:TX
CATEGORIES:League
END:VEVENT
BEGIN:VEVENT
DTSTART;TZID=America/Chicago:20250503T090000
DTEND;TZID=America/Chicago:20250503T120000
DTSTAMP:20260420T005327
CREATED:20250205T060229Z
LAST-MODIFIED:20250205T060229Z
UID:28071-1746262800-1746273600@greaterhoustonpickleball.com
SUMMARY:Spring 2025 Men's Saturday Morning League
DESCRIPTION:Pickleball Night\n\n\n \nMake sure to be a part of the first ever Pickleball night with the Houston Astros! \nJoin your fellow Pickleball fanatics in supporting the Houston Astros as they take on the Toronto Blue Jays on April 21st\, then showcase your Houston Astros pride on the Pickleball court with your own Pickleball paddle for VOLAIR! Each ticket purchased through this link guarantees you will receive a Pickleball paddle at the game!
URL:https://greaterhoustonpickleball.com/event/spring-2025-mens-saturday-morning-league-6/
LOCATION:TX
CATEGORIES:League
END:VEVENT
BEGIN:VEVENT
DTSTART;TZID=America/Chicago:20250509T090000
DTEND;TZID=America/Chicago:20250509T120000
DTSTAMP:20260420T005327
CREATED:20250205T054310Z
LAST-MODIFIED:20250205T054310Z
UID:28053-1746781200-1746792000@greaterhoustonpickleball.com
SUMMARY:Spring 2025 Friday Morning League!
DESCRIPTION:Pickleball Night\n\n\n \nMake sure to be a part of the first ever Pickleball night with the Houston Astros! \nJoin your fellow Pickleball fanatics in supporting the Houston Astros as they take on the Toronto Blue Jays on April 21st\, then showcase your Houston Astros pride on the Pickleball court with your own Pickleball paddle for VOLAIR! Each ticket purchased through this link guarantees you will receive a Pickleball paddle at the game!
URL:https://greaterhoustonpickleball.com/event/spring-2025-friday-morning-league-8/
LOCATION:TX
CATEGORIES:League
END:VEVENT
END:VCALENDAR