BEGIN:VCALENDAR
VERSION:2.0
PRODID:-//Greater Houston Pickleball - ECPv6.15.20//NONSGML v1.0//EN
CALSCALE:GREGORIAN
METHOD:PUBLISH
X-WR-CALNAME:Greater Houston Pickleball
X-ORIGINAL-URL:https://greaterhoustonpickleball.com
X-WR-CALDESC:Events for Greater Houston Pickleball
REFRESH-INTERVAL;VALUE=DURATION:PT1H
X-Robots-Tag:noindex
X-PUBLISHED-TTL:PT1H
BEGIN:VTIMEZONE
TZID:America/Chicago
BEGIN:DAYLIGHT
TZOFFSETFROM:-0600
TZOFFSETTO:-0500
TZNAME:CDT
DTSTART:20230312T080000
END:DAYLIGHT
BEGIN:STANDARD
TZOFFSETFROM:-0500
TZOFFSETTO:-0600
TZNAME:CST
DTSTART:20231105T070000
END:STANDARD
BEGIN:DAYLIGHT
TZOFFSETFROM:-0600
TZOFFSETTO:-0500
TZNAME:CDT
DTSTART:20240310T080000
END:DAYLIGHT
BEGIN:STANDARD
TZOFFSETFROM:-0500
TZOFFSETTO:-0600
TZNAME:CST
DTSTART:20241103T070000
END:STANDARD
BEGIN:DAYLIGHT
TZOFFSETFROM:-0600
TZOFFSETTO:-0500
TZNAME:CDT
DTSTART:20250309T080000
END:DAYLIGHT
BEGIN:STANDARD
TZOFFSETFROM:-0500
TZOFFSETTO:-0600
TZNAME:CST
DTSTART:20251102T070000
END:STANDARD
BEGIN:DAYLIGHT
TZOFFSETFROM:-0600
TZOFFSETTO:-0500
TZNAME:CDT
DTSTART:20260308T080000
END:DAYLIGHT
BEGIN:STANDARD
TZOFFSETFROM:-0500
TZOFFSETTO:-0600
TZNAME:CST
DTSTART:20261101T070000
END:STANDARD
END:VTIMEZONE
BEGIN:VEVENT
DTSTART;TZID=America/Chicago:20251209T180000
DTEND;TZID=America/Chicago:20251209T200000
DTSTAMP:20260421T154212
CREATED:20250205T062302Z
LAST-MODIFIED:20250205T062302Z
UID:28087-1765303200-1765310400@greaterhoustonpickleball.com
SUMMARY:Adaptive Pickleball
DESCRIPTION:Free practice 6 -8 PM second Tuesday of the month. Equipment provided.\nHosted by Chicken N Pickle Nassau Bay. \nFor more info contact Terry Nichols /tnichols@chickennpickle.com
URL:https://greaterhoustonpickleball.com/event/adaptive-pickleball-14/
LOCATION:Chicken N Pickle\, 210 Blue Heron Drive\, Webster\, TX\, 77598\, United States
CATEGORIES:Community,Education,Lessons
END:VEVENT
BEGIN:VEVENT
DTSTART;TZID=America/Chicago:20251111T180000
DTEND;TZID=America/Chicago:20251111T200000
DTSTAMP:20260421T154212
CREATED:20250205T062412Z
LAST-MODIFIED:20250205T062412Z
UID:28089-1762884000-1762891200@greaterhoustonpickleball.com
SUMMARY:Adaptive Pickleball
DESCRIPTION:Free practice 6 -8 PM second Tuesday of the month. Equipment provided.\nHosted by Chicken N Pickle Nassau Bay. \nFor more info contact Terry Nichols /tnichols@chickennpickle.com
URL:https://greaterhoustonpickleball.com/event/adaptive-pickleball-15/
LOCATION:Chicken N Pickle\, 210 Blue Heron Drive\, Webster\, TX\, 77598\, United States
CATEGORIES:Community,Education,Lessons
END:VEVENT
BEGIN:VEVENT
DTSTART;TZID=America/Chicago:20251014T180000
DTEND;TZID=America/Chicago:20251014T200000
DTSTAMP:20260421T154212
CREATED:20250205T062135Z
LAST-MODIFIED:20250205T062528Z
UID:28085-1760464800-1760472000@greaterhoustonpickleball.com
SUMMARY:Adaptive Pickleball
DESCRIPTION:Free practice 6 -8 PM second Tuesday of the month. Equipment provided.\nHosted by Chicken N Pickle Nassau Bay. \nFor more info contact Terry Nichols /tnichols@chickennpickle.com
URL:https://greaterhoustonpickleball.com/event/adaptive-pickleball-13/
LOCATION:Chicken N Pickle\, 210 Blue Heron Drive\, Webster\, TX\, 77598\, United States
CATEGORIES:Community,Education,Lessons
END:VEVENT
BEGIN:VEVENT
DTSTART;TZID=America/Chicago:20250927T080000
DTEND;TZID=America/Chicago:20250927T180000
DTSTAMP:20260421T154212
CREATED:20250122T002221Z
LAST-MODIFIED:20250924T034234Z
UID:27919-1758960000-1758996000@greaterhoustonpickleball.com
SUMMARY:STEM-E Annual Pickleball Tournament & Festival
DESCRIPTION:SAVE THE DATE!\nThis annual festival will include a pickleball tournament and numerous family-friendly activities\, including a bouncy house\, corn hole toss\, face painting\, popcorn\, cotton candy\, silent auction (see items below)\, and amazing raffles (Bourbon pool\, pickleball accessories\, and more\, see items below). Breakfast\, lunch and dessert food trucks will be present to sell meals throughout the event\, along with adult-beverage booths\, all helping to give back. Booths will be present to provide information about our community programs and opportunities to sign up and benefit! Also check out our list of Celebrity Players and appearances! \nEvent will run rain or shine! Refunds are accepted until 7 days before the event. \nVisit website for details: https://www.steme.org/pickleball-festival \nPickleball Tournament\nTournament Rules: \n\nRegistration closes 15 minutes before game play\nGames are played First to 15\nFor each Level (Beg\, Int\, Adv)\, 16 teams will play in 2 brackets of 8 teams\, 7 rounds\nTop 2 teams from each bracket will play semi-finalist round\nTop 2 semi-finalist teams will play a final round\nBottom 2 semi-finalist teams will play for 3rd place\nUSAP rules apply\n\nPlayer Tickets: $75/player \nPARTNER NOT REQUIRED AT SIGN-UP \nALL UNMATCHED PLAYERS WILL BE AUTOMATICALLY ASSIGNED A PARTNER THE DAY OF THE EVENT! \nUse this link to learn your level \n\nBeginner (2.5 and below) – PLAY 8am-11am (times may vary)\nIntermediate (3.0-3.5) – PLAY 11am – 3pm (30min break 12-12:30pm\, may end at 2:30pm\, times may vary)\nAdvanced (4.0+) – PLAY 3pm – 6pm (times may vary)\nAll games are Co-Ed for Ages 12+ years old (teams can be all male\, all female or mixed)\n\nSpectators FREE \nVOLUNTEERS: Interested in volunteering? Click here!
URL:https://greaterhoustonpickleball.com/event/stem-e-annual-pickleball-tournament-festival/
LOCATION:Memorial Park Tennis Center\, 1500 E Memorial Loop Drive\, Houston\, TX\, 77007
CATEGORIES:Community,Education,Tournament
END:VEVENT
BEGIN:VEVENT
DTSTART;TZID=America/Chicago:20250909T180000
DTEND;TZID=America/Chicago:20250909T200000
DTSTAMP:20260421T154212
CREATED:20250205T062007Z
LAST-MODIFIED:20250205T062007Z
UID:28083-1757440800-1757448000@greaterhoustonpickleball.com
SUMMARY:Adaptive Pickleball
DESCRIPTION:Free practice 6 -8 PM second Tuesday of the month. Equipment provided.\nHosted by Chicken N Pickle Nassau Bay. \nFor more info contact Terry Nichols /tnichols@chickennpickle.com
URL:https://greaterhoustonpickleball.com/event/adaptive-pickleball-12/
LOCATION:Chicken N Pickle\, 210 Blue Heron Drive\, Webster\, TX\, 77598\, United States
CATEGORIES:Community,Education,Lessons
END:VEVENT
BEGIN:VEVENT
DTSTART;TZID=America/Chicago:20250812T180000
DTEND;TZID=America/Chicago:20250812T200000
DTSTAMP:20260421T154212
CREATED:20250205T061838Z
LAST-MODIFIED:20250205T061838Z
UID:28080-1755021600-1755028800@greaterhoustonpickleball.com
SUMMARY:Adaptive Pickleball
DESCRIPTION:Free practice 6 -8 PM second Tuesday of the month. Equipment provided.\nHosted by Chicken N Pickle Nassau Bay. \nFor more info contact Terry Nichols /tnichols@chickennpickle.com
URL:https://greaterhoustonpickleball.com/event/adaptive-pickleball-11/
LOCATION:Chicken N Pickle\, 210 Blue Heron Drive\, Webster\, TX\, 77598\, United States
CATEGORIES:Community,Education,Lessons
END:VEVENT
BEGIN:VEVENT
DTSTART;TZID=America/Chicago:20250721T130000
DTEND;TZID=America/Chicago:20250721T150000
DTSTAMP:20260421T154212
CREATED:20250716T034944Z
LAST-MODIFIED:20250816T035633Z
UID:28809-1753102800-1753110000@greaterhoustonpickleball.com
SUMMARY:GHP Open Play at Pickleball Country Club
DESCRIPTION:July 21\n	  @\n1:00 pm\n	  –\n3:00 pm \nJoin Us for Open Play at Pickleball Country Club\nExcited for some fun on the court? Join us for ‘Open Play with Greater Houston Pickleball’ at the Pickleball Country Club on July 21 from 1-3 PM! \nWe’ve reserved two courts\, but spots are limited—be sure to RSVP early! \nEnjoy free snacks\, enter member raffles\, and be part of an amazing pickleball community. Plus\, members get to play for free. \nThis is your chance to connect\, compete\, and have a blast! \nWe can’t wait to see you on the court!
URL:https://greaterhoustonpickleball.com/event/ghp-open-play-at-pickleball-country-club-07-21-25/
LOCATION:Pickleball Country Club\, 10506 Kinghurst Drive\, Houston\, TX\, 77099\, United States
CATEGORIES:Community,Socials
ATTACH;FMTTYPE=image/png:https://greaterhoustonpickleball.com/wp-content/uploads/2025/07/GHPPBCC_7-25-scaled.png
END:VEVENT
BEGIN:VEVENT
DTSTART;TZID=America/Chicago:20250708T180000
DTEND;TZID=America/Chicago:20250708T200000
DTSTAMP:20260421T154212
CREATED:20250205T061620Z
LAST-MODIFIED:20250205T061704Z
UID:28078-1751997600-1752004800@greaterhoustonpickleball.com
SUMMARY:Adaptive Pickleball
DESCRIPTION:Free practice 6 -8 PM second Tuesday of the month. Equipment provided.\nHosted by Chicken N Pickle Nassau Bay. \nFor more info contact Terry Nichols /tnichols@chickennpickle.com
URL:https://greaterhoustonpickleball.com/event/adaptive-pickleball-10/
LOCATION:Chicken N Pickle\, 210 Blue Heron Drive\, Webster\, TX\, 77598\, United States
CATEGORIES:Community,Education,Lessons
END:VEVENT
BEGIN:VEVENT
DTSTART;TZID=America/Chicago:20250627T090000
DTEND;TZID=America/Chicago:20250627T120000
DTSTAMP:20260421T154212
CREATED:20250625T030016Z
LAST-MODIFIED:20250626T000603Z
UID:28769-1751014800-1751025600@greaterhoustonpickleball.com
SUMMARY:GHP Social at Pickleball Social
DESCRIPTION:Get ready for a fantastic morning of fun and community at our Pickleball Social Mixer! \n📅 Date: Friday\, June 27th \n🕘 Time: 9 AM – 12 noon \n📍 Location: Pickleball Social\, 1055 Conrad Sauer Drive\, 77043 \n💲 Cost: Just $5 per player (limited to 20 players!) \n✨ Perks: Join GHP and play for FREE with refreshments included. \nThis is a great opportunity to meet fellow pickleball enthusiasts\, have fun\, and enjoy the sport we love! \n🔗 RSVP: events@greaterhoustonpickleball.com \nLet’s serve up some fun together! 🎉
URL:https://greaterhoustonpickleball.com/event/ghp-social-at-pickleball-social/
LOCATION:Pickleball Social\, 1055 Conrad Sauer Dr\, Houston\, TX\, 77043\, United States
CATEGORIES:Community,Socials
ATTACH;FMTTYPE=image/png:https://greaterhoustonpickleball.com/wp-content/uploads/2025/06/Pickleball-Social-06-27-25.png
END:VEVENT
BEGIN:VEVENT
DTSTART;TZID=America/Chicago:20250618T130000
DTEND;TZID=America/Chicago:20250618T150000
DTSTAMP:20260421T154212
CREATED:20250606T030509Z
LAST-MODIFIED:20250609T235228Z
UID:28723-1750251600-1750258800@greaterhoustonpickleball.com
SUMMARY:GHP Open Play at Pickleball Country Club
DESCRIPTION:Join Us for Open Play at Pickleball Country Club\nExcited for some fun on the court? Join us for ‘Open Play with Greater Houston Pickleball’ at the Pickleball Country Club on June 18 from 1-3 PM! \nWe’ve reserved two courts\, but spots are limited—be sure to RSVP early! \nEnjoy free snacks\, enter member raffles\, and be part of an amazing pickleball community. Plus\, members get to play for free. \nThis is your chance to connect\, compete\, and have a blast! \nSign up today. We can’t wait to see you on the court! \n  \nTo RSVP\, please send us an email to events@greaterhoustonpickleball.com with a subject line: GHP Open Play at PBCC\nTell us your name and whether you’re a member or not and click send! Once received\, we’ll add you to our list.
URL:https://greaterhoustonpickleball.com/event/open-play-at-pickleball-country-club/
LOCATION:Pickleball Country Club\, 10506 Kinghurst Drive\, Houston\, TX\, 77099\, United States
CATEGORIES:Community,Socials
ATTACH;FMTTYPE=image/png:https://greaterhoustonpickleball.com/wp-content/uploads/2025/06/GHPatPBCC_6-18.png
END:VEVENT
BEGIN:VEVENT
DTSTART;TZID=America/Chicago:20250610T180000
DTEND;TZID=America/Chicago:20250610T200000
DTSTAMP:20260421T154212
CREATED:20250205T061502Z
LAST-MODIFIED:20250205T061502Z
UID:28076-1749578400-1749585600@greaterhoustonpickleball.com
SUMMARY:Adaptive Pickleball
DESCRIPTION:Free practice 6 -8 PM second Tuesday of the month. Equipment provided.\nHosted by Chicken N Pickle Nassau Bay. \nFor more info contact Terry Nichols /tnichols@chickennpickle.com
URL:https://greaterhoustonpickleball.com/event/adaptive-pickleball-9/
LOCATION:Chicken N Pickle\, 210 Blue Heron Drive\, Webster\, TX\, 77598\, United States
CATEGORIES:Community,Education,Lessons
END:VEVENT
BEGIN:VEVENT
DTSTART;TZID=America/Chicago:20250523T123000
DTEND;TZID=America/Chicago:20250523T140000
DTSTAMP:20260421T154212
CREATED:20250514T192401Z
LAST-MODIFIED:20250514T210910Z
UID:28668-1748003400-1748008800@greaterhoustonpickleball.com
SUMMARY:Social Mixer at Pickleball Katy
DESCRIPTION:Come try Katy’s brand new pickleball courts! Socialize\, get some exercise\, and meet other players from Katy\, Richmond\, and Ft. Bend. Enjoy a fun doubles event with random partners for the first hour. Paddles\, balls\, and instruction are provided. No need to bring a partner!
URL:https://greaterhoustonpickleball.com/event/social-mixer-at-pickleball-katy/
LOCATION:Katy Pickleball\, 24825 Roesner Rd\, Katy\, TX\, 77494\, United States
CATEGORIES:Community,Socials
ATTACH;FMTTYPE=image/png:https://greaterhoustonpickleball.com/wp-content/uploads/2025/05/KatyPBM-2025.png
ORGANIZER;CN="Mike Goldberg":MAILTO:goldmg022344@gmail.com
END:VEVENT
BEGIN:VEVENT
DTSTART;TZID=America/Chicago:20250513T180000
DTEND;TZID=America/Chicago:20250513T200000
DTSTAMP:20260421T154212
CREATED:20250205T061343Z
LAST-MODIFIED:20250205T061343Z
UID:28074-1747159200-1747166400@greaterhoustonpickleball.com
SUMMARY:Adaptive Pickleball
DESCRIPTION:Free practice 6 -8 PM second Tuesday of the month. Equipment provided.\nHosted by Chicken N Pickle Nassau Bay. \nFor more info contact Terry Nichols /tnichols@chickennpickle.com
URL:https://greaterhoustonpickleball.com/event/adaptive-pickleball-8/
LOCATION:Chicken N Pickle\, 210 Blue Heron Drive\, Webster\, TX\, 77598\, United States
CATEGORIES:Community,Education,Lessons
END:VEVENT
BEGIN:VEVENT
DTSTART;TZID=America/Chicago:20250430T150000
DTEND;TZID=America/Chicago:20250430T170000
DTSTAMP:20260421T154212
CREATED:20250424T183005Z
LAST-MODIFIED:20250426T233403Z
UID:28623-1746025200-1746032400@greaterhoustonpickleball.com
SUMMARY:National Pickleball Month - Let's Celebrate
DESCRIPTION:Don’t miss your last chance to play pickleball this April! Join USA Pickleball and Greater Houston Pickleball for open play at the Houston Pickleball Center on April 30\, from 3 PM to 5 PM.\nThis free event includes snacks\, drinks\, and prizes. Come enjoy the fun and celebrate the sport of pickleball!
URL:https://greaterhoustonpickleball.com/event/national-pickleball-month-lets-celebrate/
LOCATION:Houston Pickleball Center\, 12233 Robin Blvd\, Houston\, tx\, 77045
CATEGORIES:Community
ATTACH;FMTTYPE=image/png:https://greaterhoustonpickleball.com/wp-content/uploads/2025/04/National-Pickleball-4-30-25-GHP-nb.png
END:VEVENT
BEGIN:VEVENT
DTSTART;TZID=America/Chicago:20250428T180000
DTEND;TZID=America/Chicago:20250428T210000
DTSTAMP:20260421T154212
CREATED:20250210T023448Z
LAST-MODIFIED:20250210T024638Z
UID:28094-1745863200-1745874000@greaterhoustonpickleball.com
SUMMARY:Interfaith Caring Ministries
DESCRIPTION:Get Ready to Dink\, Drink\, and Dominate! ICM’s First Annual Pickleball Tournament is serving up fun on April 28th\, 6-9 PM at Chicken N Pickle Webster! Whether you’re a seasoned pro or just here for the snacks and sips\, there’s a spot for everyone!Tournament Highlights: Social & Competitive Leagues Great Food & Beverages Raffle Prizes & Winner’s Reception Sponsorships & Tickets Available Now! Don’t miss your chance to smash your way into an amazing cause while having a good time! Stay tuned for a BIG announcement at the end of the week!You won’t want to miss this exciting surprise!  Register now with the link below or simply scan the QR code.https://onecau.se/_8d2fa1\n			April 28\n	  @\n6:00 pm\n	  –\n9:00 pm \n\n	Chicken N Pickle\n\n210 Blue Heron Drive\n		\n		Webster\,\n	TX\n	77598\n	United States\n\n\n	+ Google Map \n\n					\n			(281) 849-7430
URL:https://greaterhoustonpickleball.com/event/interfaith-caring-ministries/
LOCATION:Chicken N Pickle\, 210 Blue Heron Drive\, Webster\, TX\, 77598\, United States
CATEGORIES:Community,Tournament
END:VEVENT
BEGIN:VEVENT
DTSTART;TZID=America/Chicago:20250408T180000
DTEND;TZID=America/Chicago:20250408T200000
DTSTAMP:20260421T154212
CREATED:20250205T040535Z
LAST-MODIFIED:20250205T040709Z
UID:28008-1744135200-1744142400@greaterhoustonpickleball.com
SUMMARY:Adaptive Pickleball
DESCRIPTION:Free practice 6 -8 PM second Tuesday of the month. Equipment provided.\nHosted by Chicken N Pickle Nassau Bay. \nFor more info contact Terry Nichols /tnichols@chickennpickle.com
URL:https://greaterhoustonpickleball.com/event/adaptive-pickleball-7/
LOCATION:Chicken N Pickle\, 210 Blue Heron Drive\, Webster\, TX\, 77598\, United States
CATEGORIES:Community,Education,Lessons
ORGANIZER;CN="Terry Nichols":MAILTO:tnichols@chickennpickle.com
END:VEVENT
BEGIN:VEVENT
DTSTART;TZID=America/Chicago:20250311T180000
DTEND;TZID=America/Chicago:20250311T200000
DTSTAMP:20260421T154212
CREATED:20250204T055641Z
LAST-MODIFIED:20250204T055641Z
UID:28006-1741716000-1741723200@greaterhoustonpickleball.com
SUMMARY:Adaptive Pickleball
DESCRIPTION:Free practice 6 -8 PM second Tuesday of the month. Equipment provided.\nHosted by Chicken N Pickle Nassau Bay. \nFor more info contact Terry Nichols /tnichols@chickennpickle.com
URL:https://greaterhoustonpickleball.com/event/adaptive-pickleball-2/
LOCATION:Chicken N Pickle\, 210 Blue Heron Drive\, Webster\, TX\, 77598\, United States
CATEGORIES:Community,Education,Lessons
END:VEVENT
BEGIN:VEVENT
DTSTART;TZID=America/Chicago:20250222T000000
DTEND;TZID=America/Chicago:20250222T000000
DTSTAMP:20260421T154212
CREATED:20250123T043450Z
LAST-MODIFIED:20250130T232959Z
UID:27947-1740182400-1740182400@greaterhoustonpickleball.com
SUMMARY:Free Beginner Pickleball Clinic at Pickleball Country Club
DESCRIPTION:Free Beginner Pickleball Clinic\nPickleball Country Club \n10506 Kinghurst Dr\, Houston\, TX 77099\, United States \n10:00AM until Noon\, Saturday\, February 22. \nMore information to come.
URL:https://greaterhoustonpickleball.com/event/https-www-steme-org-event-details-open-beginner-pickleball-player-clinic/
LOCATION:Pickleball Country Club\, 10506 Kinghurst Drive\, Houston\, TX\, 77099\, United States
CATEGORIES:Community,Lessons,Socials,Sports club
END:VEVENT
BEGIN:VEVENT
DTSTART;TZID=America/Chicago:20250211T180000
DTEND;TZID=America/Chicago:20250211T200000
DTSTAMP:20260421T154212
CREATED:20250130T235856Z
LAST-MODIFIED:20250204T055246Z
UID:27986-1739296800-1739304000@greaterhoustonpickleball.com
SUMMARY:Adaptive Pickleball
DESCRIPTION:Free practice 6 -8 PM second Tuesday of the month.  Equipment provided.\nHosted by Chicken N Pickle Nassau Bay. \nFor more info contact Taylor Nichols /tnichols@chickennpickle.com
URL:https://greaterhoustonpickleball.com/event/adaptive-pickleball/
LOCATION:Chicken N Pickle\, 210 Blue Heron Drive\, Webster\, TX\, 77598\, United States
CATEGORIES:Community,Education,Lessons
END:VEVENT
BEGIN:VEVENT
DTSTART;TZID=America/Chicago:20241210T180000
DTEND;TZID=America/Chicago:20241210T200000
DTSTAMP:20260421T154212
CREATED:20240617T205111Z
LAST-MODIFIED:20240829T154540Z
UID:27337-1733853600-1733860800@greaterhoustonpickleball.com
SUMMARY:Adaptive Pickleball
DESCRIPTION:Free practice 6 -8 PM second Tuesday of the month.  Equipment provided.  Hosted by Chicken N Pickle Nassau Bay.  For more info contact Taylor Nichols /tnichols@chickennpickle.com
URL:https://greaterhoustonpickleball.com/event/adaptive-pickleball-6/
LOCATION:Chicken N Pickle\, 210 Blue Heron Drive\, Webster\, TX\, 77598\, United States
CATEGORIES:Community,Education,Lessons
END:VEVENT
BEGIN:VEVENT
DTSTART;TZID=America/Chicago:20241112T180000
DTEND;TZID=America/Chicago:20241112T200000
DTSTAMP:20260421T154212
CREATED:20240617T204458Z
LAST-MODIFIED:20250130T235239Z
UID:27333-1731434400-1731441600@greaterhoustonpickleball.com
SUMMARY:Adaptive Pickleball
DESCRIPTION:Free practice 6 -8 PM second Tuesday of the month.  Equipment provided.  Hosted by Chicken N Pickle Nassau Bay.  \nFor more info contact Taylor Nichols /tnichols@chickennpickle.com
URL:https://greaterhoustonpickleball.com/event/adaptive-pickleball-5/
LOCATION:Chicken N Pickle\, 210 Blue Heron Drive\, Webster\, TX\, 77598\, United States
CATEGORIES:Community,Education,Lessons
END:VEVENT
BEGIN:VEVENT
DTSTART;TZID=America/Chicago:20241008T180000
DTEND;TZID=America/Chicago:20241008T200000
DTSTAMP:20260421T154212
CREATED:20240617T204300Z
LAST-MODIFIED:20240829T154913Z
UID:27330-1728410400-1728417600@greaterhoustonpickleball.com
SUMMARY:Adaptive Pickleball
DESCRIPTION:Free practice 6 -8 PM second Tuesday of the month.  Equipment provided.  Hosted by Chicken N Pickle Nassau Bay.  For more info contact Taylor Nichols /tnichols@chickennpickle.com
URL:https://greaterhoustonpickleball.com/event/adaptive-pickleball-4/
LOCATION:Chicken N Pickle\, 210 Blue Heron Drive\, Webster\, TX\, 77598\, United States
CATEGORIES:Community,Education,Lessons
END:VEVENT
BEGIN:VEVENT
DTSTART;VALUE=DATE:20241005
DTEND;VALUE=DATE:20241006
DTSTAMP:20260421T154212
CREATED:20240821T152738Z
LAST-MODIFIED:20240821T152738Z
UID:27672-1728086400-1728172799@greaterhoustonpickleball.com
SUMMARY:Adaptive Sports Festival
DESCRIPTION:
URL:https://greaterhoustonpickleball.com/event/adaptive-sports-festival/
CATEGORIES:Community
END:VEVENT
BEGIN:VEVENT
DTSTART;TZID=America/Chicago:20240929T160000
DTEND;TZID=America/Chicago:20240929T190000
DTSTAMP:20260421T154212
CREATED:20240905T022236Z
LAST-MODIFIED:20240905T022236Z
UID:27718-1727625600-1727636400@greaterhoustonpickleball.com
SUMMARY:Nets for Nehemiah
DESCRIPTION:Drop Shots will have just opened its patio and bar\, so this should be a fun event and great way to socialize and play! Drop Shots has agreed to donate a portion of the proceeds back to Nehemiah\, which provides education and basic needs to children living in poverty right here in Houston. \n$60/team.  Teams of 2 or 4
URL:https://greaterhoustonpickleball.com/event/nets-for-nehemiah/
LOCATION:Drop Shots HTX\, 2520 Airline Drive\, Houston
CATEGORIES:Community,Education,Socials,Sports club
ORGANIZER;CN="Young Professionals for Nehemiah":MAILTO:sblack@nehemiahcenterhouston.org
END:VEVENT
BEGIN:VEVENT
DTSTART;VALUE=DATE:20240927
DTEND;VALUE=DATE:20240928
DTSTAMP:20260421T154212
CREATED:20240924T162139Z
LAST-MODIFIED:20240924T162139Z
UID:27820-1727395200-1727481599@greaterhoustonpickleball.com
SUMMARY:Friday Doubles League (Coed and Women's Only)
DESCRIPTION:
URL:https://greaterhoustonpickleball.com/event/friday-doubles-league-coed-and-womens-only/
CATEGORIES:Community
END:VEVENT
BEGIN:VEVENT
DTSTART;TZID=America/Chicago:20240910T180000
DTEND;TZID=America/Chicago:20240910T200000
DTSTAMP:20260421T154212
CREATED:20240910T230042Z
LAST-MODIFIED:20240829T155042Z
UID:27327-1725991200-1725998400@greaterhoustonpickleball.com
SUMMARY:Adaptive Pickleball
DESCRIPTION:Free practice 6 -8 PM second Tuesday of the month.  Equipment provided.  Hosted by Chicken N Pickle Nassau Bay.  For more info contact Taylor Nichols /tnichols@chickennpickle.com
URL:https://greaterhoustonpickleball.com/event/adaptive-pickleball-3/
LOCATION:Chicken N Pickle\, 210 Blue Heron Drive\, Webster\, TX\, 77598\, United States
CATEGORIES:Community,Education,Lessons
END:VEVENT
BEGIN:VEVENT
DTSTART;TZID=America/Chicago:20240801T000000
DTEND;TZID=America/Chicago:20240801T000000
DTSTAMP:20260421T154212
CREATED:20240606T235043Z
LAST-MODIFIED:20240606T235115Z
UID:27277-1722470400-1722470400@greaterhoustonpickleball.com
SUMMARY:GHP Fall League Season Begins
DESCRIPTION:Fall League INTRO \nBecome a member  JOIN GHP NOW and check back for more information closer to the event date! \nQuestions (?)…  GHPLEAGUECOOR@gmail.com \n 
URL:https://greaterhoustonpickleball.com/event/ghp-fall-league-season-begins/
CATEGORIES:Community,Member Only
END:VEVENT
BEGIN:VEVENT
DTSTART;TZID=America/Chicago:20240413T080000
DTEND;TZID=America/Chicago:20240413T180000
DTSTAMP:20260421T154212
CREATED:20240227T222514Z
LAST-MODIFIED:20240311T212905Z
UID:26959-1712995200-1713031200@greaterhoustonpickleball.com
SUMMARY:STEM-E PICKLEBALL FESTIVAL and TOURNAMENT
DESCRIPTION:A family fun event to support STEM-E Youth Career Development Program\, Greater Houston Pickleball and the Houston Parks & Rec Youth Sports pickleball development program. \nClick on the web link to REGISTER: STEME.org/pickleball-festival
URL:https://greaterhoustonpickleball.com/event/stem-e-pickleball-festival-and-tournament/
LOCATION:Memorial Park Tennis Center\, 1500 E Memorial Loop Drive\, Houston\, TX\, 77007
CATEGORIES:Community,Socials,Tournament
END:VEVENT
BEGIN:VEVENT
DTSTART;TZID=America/Chicago:20240411T080000
DTEND;TZID=America/Chicago:20240411T150000
DTSTAMP:20260421T154212
CREATED:20240311T214048Z
LAST-MODIFIED:20240405T203327Z
UID:27047-1712822400-1712847600@greaterhoustonpickleball.com
SUMMARY:School K-6 Pickleball Clinic
DESCRIPTION:GHP volunteers provide free introductory mini pickleball clinics in schools.\nPart of member dues go to support Youth Pickleball.\nTo learn more\, contact Lenny Garcia at garcia.leonard@sbcglobal.net
URL:https://greaterhoustonpickleball.com/event/school-k-6-pickleball-clinic-3/
LOCATION:Shirley Dill Brothers Elementary\, 2910 Half Moon Bay Dr.\, Pearland\, tx\, 77584
CATEGORIES:Community,Education
END:VEVENT
BEGIN:VEVENT
DTSTART;TZID=America/Chicago:20240405T080000
DTEND;TZID=America/Chicago:20240405T150000
DTSTAMP:20260421T154212
CREATED:20240311T204343Z
LAST-MODIFIED:20240311T213423Z
UID:27020-1712304000-1712329200@greaterhoustonpickleball.com
SUMMARY:School K-6 Pickleball Clinic
DESCRIPTION:GHP volunteers provide free introductory mini pickleball clinics in schools.\nPart of member dues go to support Youth Pickleball.\nTo learn more\, contact Lenny Garcia at garcia.leonard@sbcglobal.net
URL:https://greaterhoustonpickleball.com/event/school-k-6-pickleball-clinic/
LOCATION:Zue S Bales Int School\, Friendswood
CATEGORIES:Community,Education
END:VEVENT
END:VCALENDAR